BEGIN:VCALENDAR
VERSION:2.0
PRODID:-//ERA Energy Research Accelerator - ECPv6.15.20//NONSGML v1.0//EN
CALSCALE:GREGORIAN
METHOD:PUBLISH
X-ORIGINAL-URL:https://www.era.ac.uk
X-WR-CALDESC:Events for ERA Energy Research Accelerator
REFRESH-INTERVAL;VALUE=DURATION:PT1H
X-Robots-Tag:noindex
X-PUBLISHED-TTL:PT1H
BEGIN:VTIMEZONE
TZID:Europe/London
BEGIN:DAYLIGHT
TZOFFSETFROM:+0000
TZOFFSETTO:+0100
TZNAME:BST
DTSTART:20240331T010000
END:DAYLIGHT
BEGIN:STANDARD
TZOFFSETFROM:+0100
TZOFFSETTO:+0000
TZNAME:GMT
DTSTART:20241027T010000
END:STANDARD
BEGIN:DAYLIGHT
TZOFFSETFROM:+0000
TZOFFSETTO:+0100
TZNAME:BST
DTSTART:20250330T010000
END:DAYLIGHT
BEGIN:STANDARD
TZOFFSETFROM:+0100
TZOFFSETTO:+0000
TZNAME:GMT
DTSTART:20251026T010000
END:STANDARD
BEGIN:DAYLIGHT
TZOFFSETFROM:+0000
TZOFFSETTO:+0100
TZNAME:BST
DTSTART:20260329T010000
END:DAYLIGHT
BEGIN:STANDARD
TZOFFSETFROM:+0100
TZOFFSETTO:+0000
TZNAME:GMT
DTSTART:20261025T010000
END:STANDARD
END:VTIMEZONE
BEGIN:VEVENT
DTSTART;TZID=Europe/London:20250911T100000
DTEND;TZID=Europe/London:20250911T133000
DTSTAMP:20260419T211710
CREATED:20250725T064158Z
LAST-MODIFIED:20250808T125412Z
UID:5869-1757584800-1757597400@www.era.ac.uk
SUMMARY:ERA Researcher Roadshow – Bioenergy Focus (for ERA researchers only)
DESCRIPTION:Overview\n\n\nThis event will bring together researchers and innovation specialists from across the ERA partnership to explore and discuss the latest developments in bioenergy research. It’s a valuable opportunity to connect with peers\, share knowledge\, and foster new collaborations within the ERA network. \nResearchers with an interest in bioenergy\, as well as research and business development professionals\, are warmly invited to attend. The event is open to colleagues from across the ERA partnership\, including the eight Midlands Innovation universities and the British Geological Survey. \nThe Programme \n\nPresentations showcasing cutting-edge bioenergy research from across the ERA partner institutions\nDiscussions on research funding opportunities\, collaborative projects\, and equipment sharing\nInsights into skills development and research support available within the ERA partnership\nNetworking opportunities with leading experts in the field of bioenergy\n\nWhether you’re an established researcher or just starting your career\, this event offers a platform to engage with others in the field and explore new opportunities.
URL:https://www.era.ac.uk/event/era-researcher-roadshow-bioenergy-focus-for-era-researchers-only/
LOCATION:Aston University\, Aston University\, Birmingham\, B4 7ET\, United Kingdom
CATEGORIES:Networking
ATTACH;FMTTYPE=image/jpeg:https://www.era.ac.uk/wp-content/uploads/2025/07/aston.jpg
ORGANIZER;CN="ERA":MAILTO:enquiries.ac.uk
END:VEVENT
BEGIN:VEVENT
DTSTART;TZID=Europe/London:20250918T090000
DTEND;TZID=Europe/London:20250918T120000
DTSTAMP:20260419T211710
CREATED:20250725T065134Z
LAST-MODIFIED:20250807T142330Z
UID:5872-1758186000-1758196800@www.era.ac.uk
SUMMARY:Engage with German GreenTech & Circular Economy Innovators
DESCRIPTION:Overview\n\n\nJoin us for a unique networking event with a delegation of leading German researchers\, entrepreneurs\, and government-backed projects visiting Birmingham as part of the Forum Digital Technologies (FDT) Roadshow. \nThis is a valuable opportunity to explore potential collaborations across GreenTech\, sustainability\, digital twins\, and the circular economy with German innovators seeking UK partners. \nWho Should Attend? \nThis event is ideal for: \n\nAcademics and researchers in sustainability\, AI\, digital engineering\, and manufacturing\nIndustry collaborators and technology providers\nSpinouts\, scale-ups\, and SMEs in digital circular economy solutions\nExperts in data standards\, legal frameworks\, and interoperability\n\nEvent Highlights \n\nWelcome and project pitches from the German delegation\nOpen networking and facilitated matchmaking\nLearn about cutting-edge research in:\nGreen Digital Twins\nDigital Product Passports\nCircular Economy strategies\nAI-powered textile sorting and building renovation planning\n\nAbout the Delegation \nThe Forum of Digital Technologies is commissioned by the German Federal Ministry for Economic Affairs and Energy\, showcasing six major projects in digital and sustainable innovation\, including: \n\nBeverGreen – Green digital twins for the brewing industry\nCliCE-DiPP – Digital CO₂ passports for manufacturing\nDiCES – Circular economy for white goods\nNaiS – AI-driven renovation planning with digital twins\nfashionsort.ai – AI-powered sorting for the textile industry\nPASSAT – Data ecosystems for sustainable product passports\n\nDelegates Are Seeking Collaboration With: \n\nResearchers and developers in semantic tech\, AI\, BIM\, LCA\, ERP/MES\, and digital twins\nIndustry partners for tech pilots and real-world applications\nCircular economy players in fashion\, manufacturing\, and construction\nExperts in standards\, regulations\, and digital infrastructure\n\n\nClick the link for further details about the International Roadshow of Forum Digital Technologies 2025 – GreenTech UK
URL:https://www.era.ac.uk/event/fdt-roadshow-engage-with-german-greentech-circular-economy-innovators/
LOCATION:University of Birmingham\, Birmingham University Campus\, Birmingham\, B15 2TT\, United Kingdom
CATEGORIES:Networking
ATTACH;FMTTYPE=image/jpeg:https://www.era.ac.uk/wp-content/uploads/2025/07/German-GreenTech-002.jpeg
ORGANIZER;CN="ERA":MAILTO:enquiries.ac.uk
END:VEVENT
BEGIN:VEVENT
DTSTART;TZID=Europe/London:20250924T120000
DTEND;TZID=Europe/London:20250924T130000
DTSTAMP:20260419T211710
CREATED:20250808T130052Z
LAST-MODIFIED:20250808T130216Z
UID:5934-1758715200-1758718800@www.era.ac.uk
SUMMARY:Shaping Hydrogen Policy – A HyDEX HORN network event
DESCRIPTION:Join us for the next Hydrogen Off-Road Network (HORN) event hosted by HyDEX\, exploring how the hydrogen industry can work together to shape policy and advance the low-carbon agenda. \nThis online session features a keynote presentation from Dr Emma Guthrie of the Hydrogen Energy Association (HEA)\, who will share insights into how the sector is collaborating to influence policy\, address regulatory challenges\, and accelerate the transition to a hydrogen economy. \nDr Guthrie will discuss: \n\nThe current hydrogen policy landscape in the UK\nThe role of industry collaboration in shaping effective and realistic policy\nOpportunities for organisations to contribute to policy development\nThe importance of strategic engagement through networks like HORN\n\nThis session is designed to support dialogue and coordination across stakeholders in hydrogen\, particularly those working on off-road\, hard-to-decarbonise applications. \nSpeaker: \nDr Emma Guthrie CEO\, Hydrogen Energy Association \nDr Guthrie is an experienced energy policy specialist with a focus on low-carbon and hydrogen technologies. She leads engagement with government and industry to support the development of effective policy frameworks for the hydrogen sector. \nWho Should Attend: \n\nHydrogen technology developers and solution providers\nPolicymakers\, local authorities\, and regulators\nOff-road equipment manufacturers and operators\nResearchers and academics\nSupply chain and logistics professionals\nAnyone involved in hydrogen deployment or policy development\n\nAbout HyDEX and HORN: \nHyDEX (www.hydex.ac.uk) is a Midlands-based programme accelerating the development and deployment of hydrogen technologies through collaborative innovation and skills development. \nThe Hydrogen Off-Road Network (HORN) is a HyDEX initiative focused on supporting the use of hydrogen in non-road applications\, including construction\, agriculture\, mining\, and industrial vehicles and machinery.
URL:https://www.era.ac.uk/event/shaping-hydrogen-policy-a-hydex-horn-network-event/
LOCATION:Virtual event
CATEGORIES:Networking,Webinars
ATTACH;FMTTYPE=image/jpeg:https://www.era.ac.uk/wp-content/uploads/2025/08/horn-event.jpg
ORGANIZER;CN="ERA":MAILTO:enquiries.ac.uk
END:VEVENT
END:VCALENDAR