BEGIN:VCALENDAR
VERSION:2.0
PRODID:-//ERA Energy Research Accelerator - ECPv6.15.20//NONSGML v1.0//EN
CALSCALE:GREGORIAN
METHOD:PUBLISH
X-WR-CALNAME:ERA Energy Research Accelerator
X-ORIGINAL-URL:https://www.era.ac.uk
X-WR-CALDESC:Events for ERA Energy Research Accelerator
REFRESH-INTERVAL;VALUE=DURATION:PT1H
X-Robots-Tag:noindex
X-PUBLISHED-TTL:PT1H
BEGIN:VTIMEZONE
TZID:Europe/London
BEGIN:DAYLIGHT
TZOFFSETFROM:+0000
TZOFFSETTO:+0100
TZNAME:BST
DTSTART:20230326T010000
END:DAYLIGHT
BEGIN:STANDARD
TZOFFSETFROM:+0100
TZOFFSETTO:+0000
TZNAME:GMT
DTSTART:20231029T010000
END:STANDARD
BEGIN:DAYLIGHT
TZOFFSETFROM:+0000
TZOFFSETTO:+0100
TZNAME:BST
DTSTART:20240331T010000
END:DAYLIGHT
BEGIN:STANDARD
TZOFFSETFROM:+0100
TZOFFSETTO:+0000
TZNAME:GMT
DTSTART:20241027T010000
END:STANDARD
BEGIN:DAYLIGHT
TZOFFSETFROM:+0000
TZOFFSETTO:+0100
TZNAME:BST
DTSTART:20250330T010000
END:DAYLIGHT
BEGIN:STANDARD
TZOFFSETFROM:+0100
TZOFFSETTO:+0000
TZNAME:GMT
DTSTART:20251026T010000
END:STANDARD
END:VTIMEZONE
BEGIN:VEVENT
DTSTART;TZID=Europe/London:20240709T150000
DTEND;TZID=Europe/London:20240709T163000
DTSTAMP:20260420T230317
CREATED:20240722T112844Z
LAST-MODIFIED:20240722T114217Z
UID:5306-1720537200-1720542600@www.era.ac.uk
SUMMARY:Energy Storage is Not Whiskey - Blends are Best!
DESCRIPTION:This event took place on Tue\, 9 Jul 2024 15:00 – 16:30 as part of Net-Zero Week 2024 \nSynopsis\nDecarbonising energy requires that we reconcile the differences between natural demand (how much electricity we would use at any given time if there were no incentives to do differently) and supply. \nBecause much of our future primary energy supply will be drawn directly from renewables\, the supply side resource will be quite variable. Several different measures are available to reconcile the two sides but of those and among these options\, energy storage is very likely to play a hugely important role. \nThis webinar\, which is part of Net-Zero Week\, focuses on “the benefits of the blend”. In theory at least\, we could operate a net-zero energy system using just one type of storage but modelling is increasingly showing that blends of multiple types of storage will provide the lowest-cost systems. In this webinar we will hear about the four main ranges of discharge-duration for energy storage and the technical solutions that suit each of those four ranges  best. \nChair:  Professor Seamus Garvey\, University of Nottingham. \n\nSeamus Garvey is a Professor of Mechanical at the University of Nottingham and an expert in the roles that energy storage solutions will achieve in net zero energy systems. He has been passionately vocal over almost 20 years on the elucidation of how mechanical energy storage can and will play a major role in the future and he leads a Task under the IEA Technology Collaboration Program on Energy Storage focused on medium-duration solutions.\n\nSpeakers:   \n\nProf. Keith Pullen\,  CEO of Levistor Ltd..   Keith discussed the roles that flywheels can play in storing energy over very short periods – cycled millions of times\nDr. John Joseph Marie\,  Principal Analyst at The Faraday Institution.  JJ addressed  the expanding role that stationary batteries can serve in electricity grid support for times (mainly) below 10 hours.\nDr.  Nerea Martinez Hipolito\, Hydrogen Intelligence Service Research Manager at LCP Delta. Nerea focused on how hydrogen can balance-up supply and demand mismatches over very long timescales – typically exceeding 200 hours.\n\nDownload the presentations below \n\nProfessor Seamus Garvey – introduction to the event\nProfessor Keith Pullen – The roles of flywheels in storing energy over short periods\nDr John Joseph Marie – The role of stationary batteries in electricity grid support\nDr Nerea Martinez Hipolito – How hydrogen can balance supply and demand mismatches\nProfessor Seamus Garvey – The importance of Medium Duration Energy Storage\n\nView the event video here \n\nView the video of ‘Energy Storage is Not Whiskey – Blends are Best!’
URL:https://www.era.ac.uk/event/energy-storage-is-not-whiskey-blends-are-best/
LOCATION:Virtual event
ATTACH;FMTTYPE=image/jpeg:https://www.era.ac.uk/wp-content/uploads/2024/07/whiskey-2382373_1280.jpg
END:VEVENT
END:VCALENDAR