BEGIN:VCALENDAR
VERSION:2.0
PRODID:-//ERA Energy Research Accelerator - ECPv6.15.20//NONSGML v1.0//EN
CALSCALE:GREGORIAN
METHOD:PUBLISH
X-WR-CALNAME:ERA Energy Research Accelerator
X-ORIGINAL-URL:https://www.era.ac.uk
X-WR-CALDESC:Events for ERA Energy Research Accelerator
REFRESH-INTERVAL;VALUE=DURATION:PT1H
X-Robots-Tag:noindex
X-PUBLISHED-TTL:PT1H
BEGIN:VTIMEZONE
TZID:Europe/London
BEGIN:DAYLIGHT
TZOFFSETFROM:+0000
TZOFFSETTO:+0100
TZNAME:BST
DTSTART:20220327T010000
END:DAYLIGHT
BEGIN:STANDARD
TZOFFSETFROM:+0100
TZOFFSETTO:+0000
TZNAME:GMT
DTSTART:20221030T010000
END:STANDARD
BEGIN:DAYLIGHT
TZOFFSETFROM:+0000
TZOFFSETTO:+0100
TZNAME:BST
DTSTART:20230326T010000
END:DAYLIGHT
BEGIN:STANDARD
TZOFFSETFROM:+0100
TZOFFSETTO:+0000
TZNAME:GMT
DTSTART:20231029T010000
END:STANDARD
BEGIN:DAYLIGHT
TZOFFSETFROM:+0000
TZOFFSETTO:+0100
TZNAME:BST
DTSTART:20240331T010000
END:DAYLIGHT
BEGIN:STANDARD
TZOFFSETFROM:+0100
TZOFFSETTO:+0000
TZNAME:GMT
DTSTART:20241027T010000
END:STANDARD
END:VTIMEZONE
BEGIN:VEVENT
DTSTART;TZID=Europe/London:20231102T143000
DTEND;TZID=Europe/London:20231102T163000
DTSTAMP:20260420T184155
CREATED:20230913T161538Z
LAST-MODIFIED:20231019T150946Z
UID:4333-1698935400-1698942600@www.era.ac.uk
SUMMARY:ERA Partner Roadshow at Loughborough University (exclusive event)
DESCRIPTION:This event is only for staff / students at  Loughborough University.  Please use your university email address to register. \n  \nAt this roadshow you will have the chance to meet with ERA staff to find out about the work that is being done in energy research and innovation and how you can get involved in the future. \nCome along to this session to find out how ERA can help you with: \n– Cross-university research collaborations \n– Disseminating your research \n– Funding applications \n– Building international links \n– Accessing world-leading facilities \n– Training and development opportunitie \nPlaces are limited so please book today! \nPlease note that this is an internal event and to attend you must have an institute-specific email address.
URL:https://www.era.ac.uk/event/era-roadshow-at-loughborough-university-exclusive-event/
LOCATION:Loughborough University\, Loughborough University\, Loughborough\, LE11 3TU\, United Kingdom
ORGANIZER;CN="ERA":MAILTO:enquiries.ac.uk
END:VEVENT
BEGIN:VEVENT
DTSTART;TZID=Europe/London:20231122T100000
DTEND;TZID=Europe/London:20231122T120000
DTSTAMP:20260420T184155
CREATED:20230913T162019Z
LAST-MODIFIED:20231110T124348Z
UID:4335-1700647200-1700654400@www.era.ac.uk
SUMMARY:ERA Partner Roadshow at University of Leicester (exclusive event)
DESCRIPTION:This event is only for staff / students at  University of Leicester.  Please use your university email address to register. \n  \nAt this roadshow you will have the chance to meet with ERA staff to find out about the work that is being done in energy research and innovation and how you can get involved in the future. \nCome along to this session to find out how ERA can help you with: \n– Cross-university research collaborations \n– Disseminating your research \n– Funding applications \n– Building international links \n– Accessing world-leading facilities \n– Training and development opportunitie \nPlaces are limited so please book today! \nPlease note that this is an internal event and to attend you must have an institute-specific email address.
URL:https://www.era.ac.uk/event/era-roadshow-at-university-of-leicester-exclusive-event/
LOCATION:University of Leicester – Space Park\, Space Park\, 92 Corporation Road\, Leicester\, LE4 5SP\, United Kingdom
ORGANIZER;CN="ERA":MAILTO:enquiries.ac.uk
END:VEVENT
BEGIN:VEVENT
DTSTART;TZID=Europe/London:20231123T100000
DTEND;TZID=Europe/London:20231123T123000
DTSTAMP:20260420T184155
CREATED:20231004T101648Z
LAST-MODIFIED:20231110T125010Z
UID:4406-1700733600-1700742600@www.era.ac.uk
SUMMARY:Start your Business's Net-Zero journey - A Midlands Green Innovation Network event
DESCRIPTION:Learn how to create a sustainability plan for your business at our in-person event\, where we’ll delve into strategies for a greener future! \nJoin us for an exciting event at the Museum of Making at Derby Silk Mill in Derby. This in-person event will guide you through the process of developing a sustainability plan. Learn how to create and implement strategies that promote environmental\, social\, and economic sustainability. \nAt this event\, award winning business woman\, Rachel Hayward from procurement consultancy\, Ask the Chameleon is joined by Tommy Allsop\, Net-Zero Delivery Lead for Tyseley Energy Park\, who will be providing practical advice and tips on how businesses can develop a sustainability action plan. \nRead more and register here!
URL:https://www.era.ac.uk/event/developing-a-sustainability-a-midlands-green-innovation-network-event/
LOCATION:The Museum and Art Gallery on The Wardwick\, Derby\, The Strand\, Derby\, DE1BS\, United Kingdom
CATEGORIES:Green innovation network
ATTACH;FMTTYPE=image/jpeg:https://www.era.ac.uk/wp-content/uploads/2023/10/Start-your-Businessess-Net-Zero-Journey.jpg
ORGANIZER;CN="ERA":MAILTO:enquiries.ac.uk
END:VEVENT
END:VCALENDAR