BEGIN:VCALENDAR
VERSION:2.0
PRODID:-//ERA Energy Research Accelerator - ECPv6.15.20//NONSGML v1.0//EN
CALSCALE:GREGORIAN
METHOD:PUBLISH
X-ORIGINAL-URL:https://www.era.ac.uk
X-WR-CALDESC:Events for ERA Energy Research Accelerator
REFRESH-INTERVAL;VALUE=DURATION:PT1H
X-Robots-Tag:noindex
X-PUBLISHED-TTL:PT1H
BEGIN:VTIMEZONE
TZID:Europe/London
BEGIN:DAYLIGHT
TZOFFSETFROM:+0000
TZOFFSETTO:+0100
TZNAME:BST
DTSTART:20210328T010000
END:DAYLIGHT
BEGIN:STANDARD
TZOFFSETFROM:+0100
TZOFFSETTO:+0000
TZNAME:GMT
DTSTART:20211031T010000
END:STANDARD
BEGIN:DAYLIGHT
TZOFFSETFROM:+0000
TZOFFSETTO:+0100
TZNAME:BST
DTSTART:20220327T010000
END:DAYLIGHT
BEGIN:STANDARD
TZOFFSETFROM:+0100
TZOFFSETTO:+0000
TZNAME:GMT
DTSTART:20221030T010000
END:STANDARD
BEGIN:DAYLIGHT
TZOFFSETFROM:+0000
TZOFFSETTO:+0100
TZNAME:BST
DTSTART:20230326T010000
END:DAYLIGHT
BEGIN:STANDARD
TZOFFSETFROM:+0100
TZOFFSETTO:+0000
TZNAME:GMT
DTSTART:20231029T010000
END:STANDARD
END:VTIMEZONE
BEGIN:VEVENT
DTSTART;TZID=Europe/London:20221116T123000
DTEND;TZID=Europe/London:20221116T133000
DTSTAMP:20260421T170107
CREATED:20230324T124259Z
LAST-MODIFIED:20230324T124259Z
UID:1543-1668601800-1668605400@www.era.ac.uk
SUMMARY:Decarbonising heat
DESCRIPTION:During this Net Zero Heroes webinar we bring together experts from academia. industry and government to discuss decarbonising heat and homes. \nEllie Horwitch-Smith (Assistant Director – Route to Net Zero\, Birmingham City Council.) \nEllie is an Assistant Director at Birmingham City Council. She is the strategic lead on net zero for and oversees a wide portfolio of projects and initiatives to deliver upon the councils Climate Emergency commitments and optimise the co-benefits that net zero presents. With a long-standing consultancy background in global and UK businesses\, she has led the development and delivery of a wide variety of projects with local authority and other public and private sector clients\, with particular expertise in heat and energy infrastructure and housing retrofit. Ellie is also Chair of the Sustainable Housing Action Partnership (SHAP)\, a not-for-profit member-led network supporting organisations and the supply chain to understand problems and develop solutions for large scale housing retrofit. \n Professor Mahroo Eftekhari (Professor\, Loughborough University) \nMahroo has a long-term interest in developing control systems\, fuzzy logic\, Model Predictive Controller MPC\, developing software for airport and strategies for buildings in order to reduce energy consumption while providing thermal comfort and improving occupant’s well-being. Her expertise lie in indoor air quality and thermal comfort\, HVAC and pipe network performance\, control systems and strategies for zero energy buildings\, Digital twin. \n Jeff House (External Affairs and Policy Director\, Baxi) \nJeff is the External Affairs and Policy Director at Baxi where he champions their vision to lead the UK and Irish markets in smart\, low carbon heating solutions. He is the chair of the Heating and Hotwater Industry Council (HHIC) Policy Group and has over two decades of industry experience with a strong background in legislation and policy for the residential and commercial heating sector. He regularly represents both Baxi and the wider industry at Government and trade body meetings\, offering in-depth advice and analysis.
URL:https://www.era.ac.uk/event/decarbonising-heat/
CATEGORIES:Net Zero Heroes,Past Events,Webinars
ATTACH;FMTTYPE=image/jpeg:https://www.era.ac.uk/wp-content/uploads/2023/01/net-zero-heroes-webinar.jpg
ORGANIZER;CN="Lennie Foster":MAILTO:L.A.Foster@lboro.ac.uk
END:VEVENT
END:VCALENDAR