BEGIN:VCALENDAR
VERSION:2.0
PRODID:-//ERA Energy Research Accelerator - ECPv6.15.20//NONSGML v1.0//EN
CALSCALE:GREGORIAN
METHOD:PUBLISH
X-WR-CALNAME:ERA Energy Research Accelerator
X-ORIGINAL-URL:https://www.era.ac.uk
X-WR-CALDESC:Events for ERA Energy Research Accelerator
REFRESH-INTERVAL;VALUE=DURATION:PT1H
X-Robots-Tag:noindex
X-PUBLISHED-TTL:PT1H
BEGIN:VTIMEZONE
TZID:Europe/London
BEGIN:DAYLIGHT
TZOFFSETFROM:+0000
TZOFFSETTO:+0100
TZNAME:BST
DTSTART:20210328T010000
END:DAYLIGHT
BEGIN:STANDARD
TZOFFSETFROM:+0100
TZOFFSETTO:+0000
TZNAME:GMT
DTSTART:20211031T010000
END:STANDARD
BEGIN:DAYLIGHT
TZOFFSETFROM:+0000
TZOFFSETTO:+0100
TZNAME:BST
DTSTART:20220327T010000
END:DAYLIGHT
BEGIN:STANDARD
TZOFFSETFROM:+0100
TZOFFSETTO:+0000
TZNAME:GMT
DTSTART:20221030T010000
END:STANDARD
BEGIN:DAYLIGHT
TZOFFSETFROM:+0000
TZOFFSETTO:+0100
TZNAME:BST
DTSTART:20230326T010000
END:DAYLIGHT
BEGIN:STANDARD
TZOFFSETFROM:+0100
TZOFFSETTO:+0000
TZNAME:GMT
DTSTART:20231029T010000
END:STANDARD
END:VTIMEZONE
BEGIN:VEVENT
DTSTART;TZID=Europe/London:20220406T123000
DTEND;TZID=Europe/London:20220406T133000
DTSTAMP:20260422T140021
CREATED:20230324T125713Z
LAST-MODIFIED:20230324T125713Z
UID:1557-1649248200-1649251800@www.era.ac.uk
SUMMARY:Energy Transitions – A Policy and Politics Perspective
DESCRIPTION:During this webinar Dr Caroline Kuzemko (University of Warwick) and Cheryl Hiles\, Director of Energy Capital at the West Midlands Combined Authority discussed the sustainable energy transition agenda through a policy and politics lens. Dr Caroline Kuzemko talk focused on some of the ways in which it is possible to harness the power of politics to challenge business-as-usual and drive more equitable change\, whilst Cheryl Hiles\, presented on the West Midlands Combined Authority’s vision to transition the West Midlands to net zero carbon emissions region.
URL:https://www.era.ac.uk/event/energy-transitions-a-policy-and-politics-perspective/
CATEGORIES:Net Zero Heroes,Past Events,Webinars
ATTACH;FMTTYPE=image/jpeg:https://www.era.ac.uk/wp-content/uploads/2023/01/net-zero-heroes-webinar.jpg
ORGANIZER;CN="Lennie Foster":MAILTO:L.A.Foster@lboro.ac.uk
END:VEVENT
END:VCALENDAR