BEGIN:VCALENDAR
VERSION:2.0
PRODID:-//ERA Energy Research Accelerator - ECPv6.15.20//NONSGML v1.0//EN
CALSCALE:GREGORIAN
METHOD:PUBLISH
X-ORIGINAL-URL:https://www.era.ac.uk
X-WR-CALDESC:Events for ERA Energy Research Accelerator
REFRESH-INTERVAL;VALUE=DURATION:PT1H
X-Robots-Tag:noindex
X-PUBLISHED-TTL:PT1H
BEGIN:VTIMEZONE
TZID:Europe/London
BEGIN:DAYLIGHT
TZOFFSETFROM:+0000
TZOFFSETTO:+0100
TZNAME:BST
DTSTART:20210328T010000
END:DAYLIGHT
BEGIN:STANDARD
TZOFFSETFROM:+0100
TZOFFSETTO:+0000
TZNAME:GMT
DTSTART:20211031T010000
END:STANDARD
BEGIN:DAYLIGHT
TZOFFSETFROM:+0000
TZOFFSETTO:+0100
TZNAME:BST
DTSTART:20220327T010000
END:DAYLIGHT
BEGIN:STANDARD
TZOFFSETFROM:+0100
TZOFFSETTO:+0000
TZNAME:GMT
DTSTART:20221030T010000
END:STANDARD
BEGIN:DAYLIGHT
TZOFFSETFROM:+0000
TZOFFSETTO:+0100
TZNAME:BST
DTSTART:20230326T010000
END:DAYLIGHT
BEGIN:STANDARD
TZOFFSETFROM:+0100
TZOFFSETTO:+0000
TZNAME:GMT
DTSTART:20231029T010000
END:STANDARD
END:VTIMEZONE
BEGIN:VEVENT
DTSTART;TZID=Europe/London:20220720T123000
DTEND;TZID=Europe/London:20220720T133000
DTSTAMP:20260422T025936
CREATED:20230324T124750Z
LAST-MODIFIED:20230324T125340Z
UID:1550-1658320200-1658323800@www.era.ac.uk
SUMMARY:ECR Special
DESCRIPTION:Find out about the fantastic research post-doctoral and doctoral researchers are doing to help drive forward the Net Zero Agenda. Confirmed speakers include Loughborough University and C-DICE Fellow Ben Roberts and the winner of the ERA Net Zero Doctoral Summer Showcase student talks Carmen Hierro Iglesias from Aston University. \nDr Ben Roberts is a Research Fellow in the Building Energy Research Group at Loughborough University. Ben has expertise in measuring thermal comfort and indoor air quality\, and is researching how buildings can provide optimal health and wellbeing in tropical climates he will speak about: “Monitoring indoor air quality in two hospitals in tropical climates to reduce transmission of airborne infectious disease”. \nCarmen Hierro Iglesias is a Bioprocess Engineering PhD student at Aston University. Her background is in industrial biotechnology and she is currently working on the sustainable production of biopolymers. She is interested in the use of microorganisms to transform biomass waste into bio-based products. This talk will be about the role of bioplastics in achieving a Net-Zero future. Carmen recently won first place in the ERA Net Zero Doctoral Summer Showcase student presentations. \nSiqi Wang is a PhD student in the Energy and Power department at Cranfield University with a background in Chemical and Process Engineering. Her current research is focused on developing catalysts and combined sorbent catalyst materials for blue hydrogen production. The title of her presentation is “Developing novel bi/polymetallic catalysts for (sorption enhanced) steam reforming of methane”. \nDr Tom Dolan is C-DICE Postdoctoral Research Fellow and UKCRIC Senior Research Fellow in the Infrastructure Systems Institute at UCL. Through his C-DICE Fellowship\, Tom is undertaking systemic research into the role National Infrastructure can play in addressing the Climate Emergen(t)cy. Tom will share systemic perspectives on the Climate Emergen(t)cy\, addressing the Climate Emergen(t)cy\, the role of National infrastructure as a systemic leverage point; and propose a set of Climate Emergency Success Factors (Systemic principles) that can be used to inform a systemically fit for purpose response to the Climate Emergen(t)cy. \n\n 
URL:https://www.era.ac.uk/event/ecr-special-20-07-2022/
CATEGORIES:Net Zero Heroes,Past Events,Webinars
ATTACH;FMTTYPE=image/jpeg:https://www.era.ac.uk/wp-content/uploads/2023/01/net-zero-heroes-webinar.jpg
ORGANIZER;CN="Lennie Foster":MAILTO:L.A.Foster@lboro.ac.uk
END:VEVENT
END:VCALENDAR