BEGIN:VCALENDAR
VERSION:2.0
PRODID:-//ERA Energy Research Accelerator - ECPv6.15.20//NONSGML v1.0//EN
CALSCALE:GREGORIAN
METHOD:PUBLISH
X-WR-CALNAME:ERA Energy Research Accelerator
X-ORIGINAL-URL:https://www.era.ac.uk
X-WR-CALDESC:Events for ERA Energy Research Accelerator
REFRESH-INTERVAL;VALUE=DURATION:PT1H
X-Robots-Tag:noindex
X-PUBLISHED-TTL:PT1H
BEGIN:VTIMEZONE
TZID:Europe/London
BEGIN:DAYLIGHT
TZOFFSETFROM:+0000
TZOFFSETTO:+0100
TZNAME:BST
DTSTART:20230326T010000
END:DAYLIGHT
BEGIN:STANDARD
TZOFFSETFROM:+0100
TZOFFSETTO:+0000
TZNAME:GMT
DTSTART:20231029T010000
END:STANDARD
BEGIN:DAYLIGHT
TZOFFSETFROM:+0000
TZOFFSETTO:+0100
TZNAME:BST
DTSTART:20240331T010000
END:DAYLIGHT
BEGIN:STANDARD
TZOFFSETFROM:+0100
TZOFFSETTO:+0000
TZNAME:GMT
DTSTART:20241027T010000
END:STANDARD
BEGIN:DAYLIGHT
TZOFFSETFROM:+0000
TZOFFSETTO:+0100
TZNAME:BST
DTSTART:20250330T010000
END:DAYLIGHT
BEGIN:STANDARD
TZOFFSETFROM:+0100
TZOFFSETTO:+0000
TZNAME:GMT
DTSTART:20251026T010000
END:STANDARD
END:VTIMEZONE
BEGIN:VEVENT
DTSTART;VALUE=DATE:20241106
DTEND;VALUE=DATE:20241107
DTSTAMP:20260422T172041
CREATED:20241113T161443Z
LAST-MODIFIED:20241114T160141Z
UID:5458-1730851200-1730937599@www.era.ac.uk
SUMMARY:Decarbonising UK domestic heating: Disruptive approaches
DESCRIPTION:View the full details here
URL:https://www.era.ac.uk/event/decarbonising-uk-domestic-heating-disruptive-approaches/
LOCATION:Vaillant Live\, Derby\, DE1 1LA\, United Kingdom
CATEGORIES:Conference,Networking
END:VEVENT
END:VCALENDAR