BEGIN:VCALENDAR
VERSION:2.0
PRODID:-//ERA Energy Research Accelerator - ECPv6.15.20//NONSGML v1.0//EN
CALSCALE:GREGORIAN
METHOD:PUBLISH
X-ORIGINAL-URL:https://www.era.ac.uk
X-WR-CALDESC:Events for ERA Energy Research Accelerator
REFRESH-INTERVAL;VALUE=DURATION:PT1H
X-Robots-Tag:noindex
X-PUBLISHED-TTL:PT1H
BEGIN:VTIMEZONE
TZID:Europe/London
BEGIN:DAYLIGHT
TZOFFSETFROM:+0000
TZOFFSETTO:+0100
TZNAME:BST
DTSTART:20230326T010000
END:DAYLIGHT
BEGIN:STANDARD
TZOFFSETFROM:+0100
TZOFFSETTO:+0000
TZNAME:GMT
DTSTART:20231029T010000
END:STANDARD
BEGIN:DAYLIGHT
TZOFFSETFROM:+0000
TZOFFSETTO:+0100
TZNAME:BST
DTSTART:20240331T010000
END:DAYLIGHT
BEGIN:STANDARD
TZOFFSETFROM:+0100
TZOFFSETTO:+0000
TZNAME:GMT
DTSTART:20241027T010000
END:STANDARD
BEGIN:DAYLIGHT
TZOFFSETFROM:+0000
TZOFFSETTO:+0100
TZNAME:BST
DTSTART:20250330T010000
END:DAYLIGHT
BEGIN:STANDARD
TZOFFSETFROM:+0100
TZOFFSETTO:+0000
TZNAME:GMT
DTSTART:20251026T010000
END:STANDARD
END:VTIMEZONE
BEGIN:VEVENT
DTSTART;TZID=Europe/London:20240227T090000
DTEND;TZID=Europe/London:20240227T164000
DTSTAMP:20260423T074145
CREATED:20240206T113243Z
LAST-MODIFIED:20240221T234840Z
UID:4888-1709024400-1709052000@www.era.ac.uk
SUMMARY:HyDEX Hydrogen Summit
DESCRIPTION:The HyDEX Summit\nThe HyDEX Hydrogen Summit is taking place on Tuesday 27 February at Keele University in Staffordshire. \nThe aim of the summit is to showcase some of the latest work taking place in hydrogen and energy more widely\, and it will also highlight a number of careers available for people who want to enter the energy sector. \nAfter the summit will be the Hydrogen Awards\, the UK’s first award competition recognising industries and researchers involved in hydrogen innovation. \nIf you would like to attend the Hydrogen Awards\, please visit www.hydrogenawards.com for more information. \nProgramme \n9.00am – 9.50am: Arrival and coffee \n9.50am – 10.05am: Welcome \n10.05am – 10.20am: Keele University\, a living laboratory – Julian Reed \n10.20am: Visits to energy facilities on the Keele University site and workshops. This involves travel by coach around the campus. \n11.50am: Dr Sharon George\, PI for HyDEX– Hydrogen Research and Innovation overview \n12.10pm: Lunch and networking \n1.10pm: Hydrogen Innovators spotlight \n1.10pm – 1.25pm: Arcadis – Clive Maggs \n1.25pm – 1.40pm: Clean Hydrogen Power – Qamar Khan \n1.40pm – 1.55pm: Hydrologiq – Ben Lindley \n1.55pm – 2.10pm: Origin 21 – Sabin Nair \n2.10pm – 2.25pm: Geopura – Matt Bennett \n2.25pm – 2.40pm: Hygrid Energy – Harshal Sankhe \n2.40pm – 2.55pm: Fuel Cell Systems – Richard Stockwell \n2.55pm – 3.10pm: Panel Q&As with the Hydrogen Innovators \n3.10pm: Coffee Break \n3.25pm: Support for Hydrogen Businesses \n3.25pm – 3.40pm: Rob Scott – UK Business Growth (funding and support) \n3.40pm – 3.55pm: Ben Lincon & Stephen Moore – Potter Clarkson (IP support) \n3.55pm: Q&As on support for businesses \n4.05pm: Hydrogen Skills \n4.05 – 4.20pm: Hydrogen Skills Report: Jeisson Cardenas-Rubio\, Warwick University \n4.20pm Q&As on Skills \n4.30pm: Summary and reflections\n4.30 – 4.45pm: Dr Sharon George\, summary and reflection on the summit \n4.40pm: Finish
URL:https://www.era.ac.uk/event/hydex-hydrogen-summit/
LOCATION:Sustainability Hub\, Keele University\, Home Farm\, Keele\, Select a State or Province:\, ST5 5AA\, United Kingdom
CATEGORIES:Demonstration tour,Suumit
ATTACH;FMTTYPE=image/png:https://www.era.ac.uk/wp-content/uploads/2023/04/hydex-large-png.png
ORGANIZER;CN="HyDEX":MAILTO:hello@hydex.ac.uk
END:VEVENT
END:VCALENDAR