BEGIN:VCALENDAR
VERSION:2.0
PRODID:-//ERA Energy Research Accelerator - ECPv6.15.20//NONSGML v1.0//EN
CALSCALE:GREGORIAN
METHOD:PUBLISH
X-WR-CALNAME:ERA Energy Research Accelerator
X-ORIGINAL-URL:https://www.era.ac.uk
X-WR-CALDESC:Events for ERA Energy Research Accelerator
REFRESH-INTERVAL;VALUE=DURATION:PT1H
X-Robots-Tag:noindex
X-PUBLISHED-TTL:PT1H
BEGIN:VTIMEZONE
TZID:Europe/London
BEGIN:DAYLIGHT
TZOFFSETFROM:+0000
TZOFFSETTO:+0100
TZNAME:BST
DTSTART:20250330T010000
END:DAYLIGHT
BEGIN:STANDARD
TZOFFSETFROM:+0100
TZOFFSETTO:+0000
TZNAME:GMT
DTSTART:20251026T010000
END:STANDARD
BEGIN:DAYLIGHT
TZOFFSETFROM:+0000
TZOFFSETTO:+0100
TZNAME:BST
DTSTART:20260329T010000
END:DAYLIGHT
BEGIN:STANDARD
TZOFFSETFROM:+0100
TZOFFSETTO:+0000
TZNAME:GMT
DTSTART:20261025T010000
END:STANDARD
BEGIN:DAYLIGHT
TZOFFSETFROM:+0000
TZOFFSETTO:+0100
TZNAME:BST
DTSTART:20270328T010000
END:DAYLIGHT
BEGIN:STANDARD
TZOFFSETFROM:+0100
TZOFFSETTO:+0000
TZNAME:GMT
DTSTART:20271031T010000
END:STANDARD
END:VTIMEZONE
BEGIN:VEVENT
DTSTART;TZID=Europe/London:20260507T093000
DTEND;TZID=Europe/London:20260507T153000
DTSTAMP:20260420T153113
CREATED:20260324T135819Z
LAST-MODIFIED:20260324T135819Z
UID:6326-1778146200-1778167800@www.era.ac.uk
SUMMARY:The net zero debate: Advancing AI-driven “digital brains” through cross-disciplinary leadership
DESCRIPTION:The transition to Net Zero has exposed a critical skills gap: the need to integrate AI-driven “Digital Brains” with multi-sector energy fields. Funded by the ERA C-DICE Community Fund and supported by Cranfield University\, this in-person ECR event will support attendees to develop cross-disciplinary expertise linking engineering\, data science\, economics and policy. Providing you with the skills to integrate your research with AI ‘Digital Brains’. \nIn this event\, you will engage in: \n\nExpert Insights: High‑level multidisciplinary seminars on energy\, AI\, techno‑economics and policy for Net Zero.\nTechnical Showcases: AI digital twin demos and visits to ocean\, hydrogen and solar facilities.\nLeadership Simulation: Take part in a “Consensus Debate” to identify barriers and co‑create bankable Net Zero roadmaps.\nRecognition: Top teams in the debate will receive certificates and prizes.\n\nKey note speakers \n\nDr Qing Qin\, Research Fellow in Actuation and Control Systems for Hydrogen Aerospace Applications\nDr Joao Bento\, Research Fellow in Additive Manufacturing\, Welding and Additive Manufacturing Centre\nDr Weizhao Huang\, Research Fellow in Hydrogen Economics Modelling\nDr Siqi Wang\, Research Fellow in Chemical Engineering\nDr Sandun Dissanayake\, Research Fellow in Thermochemical Processes\nDr Danlei Yang\, Research Fellow in Energy Systems\n\nThis is a free event with lunch and refreshments provided. Accessibility support\, including travel or caring costs\, may be available. In‑person participation is limited to 50 places on a first‑come\, first‑served basis\, while online attendance is unlimited. \nIf your registration is successful\, you will receive an email confirming your place at the workshop. \nRegistration deadline: 23rd April 2026. 
URL:https://www.era.ac.uk/event/the-net-zero-debate-advancing-ai-driven-digital-brains-through-cross-disciplinary-leadership/
LOCATION:Cranfield University\, College Road\, Wharley End\, Bedford\, MK43 0AL\, United Kingdom
END:VEVENT
END:VCALENDAR