BEGIN:VCALENDAR
VERSION:2.0
PRODID:-//ERA Energy Research Accelerator - ECPv6.15.20//NONSGML v1.0//EN
CALSCALE:GREGORIAN
METHOD:PUBLISH
X-WR-CALNAME:ERA Energy Research Accelerator
X-ORIGINAL-URL:https://www.era.ac.uk
X-WR-CALDESC:Events for ERA Energy Research Accelerator
REFRESH-INTERVAL;VALUE=DURATION:PT1H
X-Robots-Tag:noindex
X-PUBLISHED-TTL:PT1H
BEGIN:VTIMEZONE
TZID:Europe/London
BEGIN:DAYLIGHT
TZOFFSETFROM:+0000
TZOFFSETTO:+0100
TZNAME:BST
DTSTART:20250330T010000
END:DAYLIGHT
BEGIN:STANDARD
TZOFFSETFROM:+0100
TZOFFSETTO:+0000
TZNAME:GMT
DTSTART:20251026T010000
END:STANDARD
BEGIN:DAYLIGHT
TZOFFSETFROM:+0000
TZOFFSETTO:+0100
TZNAME:BST
DTSTART:20260329T010000
END:DAYLIGHT
BEGIN:STANDARD
TZOFFSETFROM:+0100
TZOFFSETTO:+0000
TZNAME:GMT
DTSTART:20261025T010000
END:STANDARD
BEGIN:DAYLIGHT
TZOFFSETFROM:+0000
TZOFFSETTO:+0100
TZNAME:BST
DTSTART:20270328T010000
END:DAYLIGHT
BEGIN:STANDARD
TZOFFSETFROM:+0100
TZOFFSETTO:+0000
TZNAME:GMT
DTSTART:20271031T010000
END:STANDARD
END:VTIMEZONE
BEGIN:VEVENT
DTSTART;TZID=Europe/London:20260304T100000
DTEND;TZID=Europe/London:20260304T120000
DTSTAMP:20260423T051004
CREATED:20260114T161433Z
LAST-MODIFIED:20260116T155111Z
UID:6220-1772618400-1772625600@www.era.ac.uk
SUMMARY:FutureProof Your Research Career
DESCRIPTION:Join C-DICE and Energy Research Accelerator (ERA) for a focused session drawing on Naomi’s LEAP and FutureProof Programmes. \nIn this career-focused workshop\, participants will: \n\n\nTake stock of core strengths and transferable skills\nUnderstand the changing research landscape\nExplore a wide range of career paths in universities\, policy\, charities\, consulting\, and industry\nLearn how to use AI to support job searching\nTranslate academic experience for non-academic roles and prepare for interviews\n\nBy the end of the session\, you’ll have practical strategies to future-proof your career and confidently navigate opportunities within and beyond academia. \nDate and time:\nThursday 4 March 2026\, 13:00-15:00\, Online via Zoom \nPresenter biography:\nDr Naomi Tyrrell is an ICF Accredited Coach and runs Europe’s largest advice network for alternative-to-academic careers. After 18 years in academia\, Naomi now runs an evaluation consultancy and training business. She is passionate about helping people and organisations develop their strengths and navigate periods of growth\, offering expertise in areas such as programme monitoring\, evaluation\, organisational development AI training and executive coaching. \nEligibility:\nThis event is open to postdocs\, final-stage PhDs from UK universities and ERA associated PhD students. \nHow to register:\nPlease register your interest via FutureProof Your Research Career: 4 March 2026\, 10:00am-12:00pm– C-DICE and clicking the Book Online button in that link. \nWe will contact you by email if we need further information or if we are unable to offer you a place. If your registration is successful\, you will receive an Outlook calendar invitation confirming your place at the workshop.
URL:https://www.era.ac.uk/event/futureproof-your-research-career/
LOCATION:On-line via Zoom
END:VEVENT
END:VCALENDAR