BEGIN:VCALENDAR
VERSION:2.0
PRODID:-//ERA Energy Research Accelerator - ECPv6.15.20//NONSGML v1.0//EN
CALSCALE:GREGORIAN
METHOD:PUBLISH
X-ORIGINAL-URL:https://www.era.ac.uk
X-WR-CALDESC:Events for ERA Energy Research Accelerator
REFRESH-INTERVAL;VALUE=DURATION:PT1H
X-Robots-Tag:noindex
X-PUBLISHED-TTL:PT1H
BEGIN:VTIMEZONE
TZID:Europe/London
BEGIN:DAYLIGHT
TZOFFSETFROM:+0000
TZOFFSETTO:+0100
TZNAME:BST
DTSTART:20250330T010000
END:DAYLIGHT
BEGIN:STANDARD
TZOFFSETFROM:+0100
TZOFFSETTO:+0000
TZNAME:GMT
DTSTART:20251026T010000
END:STANDARD
BEGIN:DAYLIGHT
TZOFFSETFROM:+0000
TZOFFSETTO:+0100
TZNAME:BST
DTSTART:20260329T010000
END:DAYLIGHT
BEGIN:STANDARD
TZOFFSETFROM:+0100
TZOFFSETTO:+0000
TZNAME:GMT
DTSTART:20261025T010000
END:STANDARD
BEGIN:DAYLIGHT
TZOFFSETFROM:+0000
TZOFFSETTO:+0100
TZNAME:BST
DTSTART:20270328T010000
END:DAYLIGHT
BEGIN:STANDARD
TZOFFSETFROM:+0100
TZOFFSETTO:+0000
TZNAME:GMT
DTSTART:20271031T010000
END:STANDARD
END:VTIMEZONE
BEGIN:VEVENT
DTSTART;TZID=Europe/London:20260226T130000
DTEND;TZID=Europe/London:20260226T140000
DTSTAMP:20260420T121813
CREATED:20260114T161627Z
LAST-MODIFIED:20260114T161627Z
UID:6222-1772110800-1772114400@www.era.ac.uk
SUMMARY:How to Use LinkedIn as a Researcher
DESCRIPTION:Join C-DICE and Energy Research Accelerator (ERA) for a focused session that will transform how you view LinkedIn as a career tool. \nIn this hands-on workshop\, Dr Naomi Tyrrell – researcher\, evaluator\, and career coach for academics – will show you how LinkedIn can become one of your most valuable resources\, whether you’re staying in academia or exploring new professional paths. \n\nYou’ll learn: \n\nHow to create a compelling and credible profile that reflects your expertise\nPractical ways to build meaningful connections and grow your professional network\nHow to use LinkedIn strategically for research visibility\, collaboration\, and career opportunities\nWhy LinkedIn matters for researchers now more than ever – even if others say it’s not the right platform!\n\nThis isn’t just theory – you’ll see real examples of how researchers have used LinkedIn to attract collaborations\, consultancy work\, guest speaker appearances\, and job offers. \nDate and time:\nThursday 26 February 2026\, 13:00-14:00\, Online via Zoom \nPresenter biography:\nDr Naomi Tyrrell is an ICF Accredited Coach and runs Europe’s largest advice network for alternative-to-academic careers. After 18 years in academia\, Naomi now runs an evaluation consultancy and training business. She is passionate about helping people and organisations develop their strengths and navigate periods of growth\, offering expertise in areas such as programme monitoring\, evaluation\, organisational development AI training and executive coaching. \nEligibility:\nThis event is open to postdocs\, final-stage PhDs from UK universities and ERA associated PhD students. \nHow to register:\nPlease register your interest via How to Use LinkedIn as a Researcher: 26 February 2026\, 13:00-14:00 – C-DICE and clicking the Book Online button in that link. \nWe will contact you by email if we need further information or if we are unable to offer you a place. If your registration is successful\, you will receive an Outlook calendar invitation confirming your place at the workshop.
URL:https://www.era.ac.uk/event/how-to-use-linkedin-as-a-researcher/
LOCATION:On-line via Zoom
END:VEVENT
END:VCALENDAR