BEGIN:VCALENDAR
VERSION:2.0
PRODID:-//ERA Energy Research Accelerator - ECPv6.15.20//NONSGML v1.0//EN
CALSCALE:GREGORIAN
METHOD:PUBLISH
X-ORIGINAL-URL:https://www.era.ac.uk
X-WR-CALDESC:Events for ERA Energy Research Accelerator
REFRESH-INTERVAL;VALUE=DURATION:PT1H
X-Robots-Tag:noindex
X-PUBLISHED-TTL:PT1H
BEGIN:VTIMEZONE
TZID:Europe/London
BEGIN:DAYLIGHT
TZOFFSETFROM:+0000
TZOFFSETTO:+0100
TZNAME:BST
DTSTART:20250330T010000
END:DAYLIGHT
BEGIN:STANDARD
TZOFFSETFROM:+0100
TZOFFSETTO:+0000
TZNAME:GMT
DTSTART:20251026T010000
END:STANDARD
BEGIN:DAYLIGHT
TZOFFSETFROM:+0000
TZOFFSETTO:+0100
TZNAME:BST
DTSTART:20260329T010000
END:DAYLIGHT
BEGIN:STANDARD
TZOFFSETFROM:+0100
TZOFFSETTO:+0000
TZNAME:GMT
DTSTART:20261025T010000
END:STANDARD
BEGIN:DAYLIGHT
TZOFFSETFROM:+0000
TZOFFSETTO:+0100
TZNAME:BST
DTSTART:20270328T010000
END:DAYLIGHT
BEGIN:STANDARD
TZOFFSETFROM:+0100
TZOFFSETTO:+0000
TZNAME:GMT
DTSTART:20271031T010000
END:STANDARD
END:VTIMEZONE
BEGIN:VEVENT
DTSTART;TZID=Europe/London:20260213T130000
DTEND;TZID=Europe/London:20260213T140000
DTSTAMP:20260420T153139
CREATED:20260114T155914Z
LAST-MODIFIED:20260114T155914Z
UID:6208-1770987600-1770991200@www.era.ac.uk
SUMMARY:Event Planning for Public Engagement
DESCRIPTION:Join C-DICE and Energy Research Accelerator (ERA) for a focused session exploring the practical elements of planning accessible\, inclusive\, and engaging experiences for the public. \nThis session will guide you through the essentials of event design\, including: \n\n\nCreating compelling titles and promotional copy\nBuilding realistic timelines\nManaging risks effectively\nWorking collaboratively with partners\n\nYou’ll leave with a clear\, actionable framework to turn your ideas into successful public events. \n\n\n\nDate and time:\nFriday 13 February 2026\, 13:00-14:00\, Online via Zoom \nPresenter biography:\nJamie is an award-winning communicator and engagement professional with ten years’ experience in the delivery and evaluation of quality engagement projects. Working across dozens of institutions and subject areas he has helped improve the reach\, profile and impact of research engagement in almost every discipline. \nEligibility:\nThis event is open to postdocs\, final-stage PhDs from UK universities and ERA associated PhD students. \nHow to register:\nPlease register your interest via Event Planning for Public Engagement: 13 February 2026\, 13:00-14:00 – C-DICE and clicking the Book Online button in that link. \nWe will contact you by email if we need further information or if we are unable to offer you a place. If your registration is successful\, you will receive an Outlook calendar invitation confirming your place at the workshop.
URL:https://www.era.ac.uk/event/event-planning-for-public-engagement/
LOCATION:On-line via Zoom
END:VEVENT
END:VCALENDAR