BEGIN:VCALENDAR
VERSION:2.0
PRODID:-//ERA Energy Research Accelerator - ECPv6.15.20//NONSGML v1.0//EN
CALSCALE:GREGORIAN
METHOD:PUBLISH
X-WR-CALNAME:ERA Energy Research Accelerator
X-ORIGINAL-URL:https://www.era.ac.uk
X-WR-CALDESC:Events for ERA Energy Research Accelerator
REFRESH-INTERVAL;VALUE=DURATION:PT1H
X-Robots-Tag:noindex
X-PUBLISHED-TTL:PT1H
BEGIN:VTIMEZONE
TZID:Europe/London
BEGIN:DAYLIGHT
TZOFFSETFROM:+0000
TZOFFSETTO:+0100
TZNAME:BST
DTSTART:20240331T010000
END:DAYLIGHT
BEGIN:STANDARD
TZOFFSETFROM:+0100
TZOFFSETTO:+0000
TZNAME:GMT
DTSTART:20241027T010000
END:STANDARD
BEGIN:DAYLIGHT
TZOFFSETFROM:+0000
TZOFFSETTO:+0100
TZNAME:BST
DTSTART:20250330T010000
END:DAYLIGHT
BEGIN:STANDARD
TZOFFSETFROM:+0100
TZOFFSETTO:+0000
TZNAME:GMT
DTSTART:20251026T010000
END:STANDARD
BEGIN:DAYLIGHT
TZOFFSETFROM:+0000
TZOFFSETTO:+0100
TZNAME:BST
DTSTART:20260329T010000
END:DAYLIGHT
BEGIN:STANDARD
TZOFFSETFROM:+0100
TZOFFSETTO:+0000
TZNAME:GMT
DTSTART:20261025T010000
END:STANDARD
END:VTIMEZONE
BEGIN:VEVENT
DTSTART;VALUE=DATE:20251121
DTEND;VALUE=DATE:20251122
DTSTAMP:20260420T021104
CREATED:20251010T122436Z
LAST-MODIFIED:20251023T110239Z
UID:5970-1763683200-1763769599@www.era.ac.uk
SUMMARY:Decarbonising UK domestic heating: Disruptive approaches (in person)
DESCRIPTION:View the full details here
URL:https://www.era.ac.uk/event/decarbonising-uk-domestic-heating-disruptive-approaches-in-person/
LOCATION:Institution of Mechanical Engineers (IMechE)\, One Birdcage Walk\, London\, SW1H 9JJ\, United Kingdom
CATEGORIES:Conference,Networking
ATTACH;FMTTYPE=image/jpeg:https://www.era.ac.uk/wp-content/uploads/2025/10/decarb.jpg
ORGANIZER;CN="ERA":MAILTO:enquiries.ac.uk
END:VEVENT
BEGIN:VEVENT
DTSTART;VALUE=DATE:20251121
DTEND;VALUE=DATE:20251122
DTSTAMP:20260420T021104
CREATED:20251010T123114Z
LAST-MODIFIED:20251010T123114Z
UID:5976-1763683200-1763769599@www.era.ac.uk
SUMMARY:Decarbonising UK domestic heating: Disruptive approaches (Webinar)
DESCRIPTION:View the full details here
URL:https://www.era.ac.uk/event/decarbonising-uk-domestic-heating-disruptive-approaches-webinar/
LOCATION:Virtual event
CATEGORIES:Conference,Networking
ATTACH;FMTTYPE=image/jpeg:https://www.era.ac.uk/wp-content/uploads/2025/10/decarb.jpg
ORGANIZER;CN="ERA":MAILTO:enquiries.ac.uk
END:VEVENT
END:VCALENDAR