BEGIN:VCALENDAR
VERSION:2.0
PRODID:-//ERA Energy Research Accelerator - ECPv6.15.20//NONSGML v1.0//EN
CALSCALE:GREGORIAN
METHOD:PUBLISH
X-WR-CALNAME:ERA Energy Research Accelerator
X-ORIGINAL-URL:https://www.era.ac.uk
X-WR-CALDESC:Events for ERA Energy Research Accelerator
REFRESH-INTERVAL;VALUE=DURATION:PT1H
X-Robots-Tag:noindex
X-PUBLISHED-TTL:PT1H
BEGIN:VTIMEZONE
TZID:Europe/London
BEGIN:DAYLIGHT
TZOFFSETFROM:+0000
TZOFFSETTO:+0100
TZNAME:BST
DTSTART:20240331T010000
END:DAYLIGHT
BEGIN:STANDARD
TZOFFSETFROM:+0100
TZOFFSETTO:+0000
TZNAME:GMT
DTSTART:20241027T010000
END:STANDARD
BEGIN:DAYLIGHT
TZOFFSETFROM:+0000
TZOFFSETTO:+0100
TZNAME:BST
DTSTART:20250330T010000
END:DAYLIGHT
BEGIN:STANDARD
TZOFFSETFROM:+0100
TZOFFSETTO:+0000
TZNAME:GMT
DTSTART:20251026T010000
END:STANDARD
BEGIN:DAYLIGHT
TZOFFSETFROM:+0000
TZOFFSETTO:+0100
TZNAME:BST
DTSTART:20260329T010000
END:DAYLIGHT
BEGIN:STANDARD
TZOFFSETFROM:+0100
TZOFFSETTO:+0000
TZNAME:GMT
DTSTART:20261025T010000
END:STANDARD
END:VTIMEZONE
BEGIN:VEVENT
DTSTART;TZID=Europe/London:20250918T090000
DTEND;TZID=Europe/London:20250918T120000
DTSTAMP:20260419T225842
CREATED:20250725T065134Z
LAST-MODIFIED:20250807T142330Z
UID:5872-1758186000-1758196800@www.era.ac.uk
SUMMARY:Engage with German GreenTech & Circular Economy Innovators
DESCRIPTION:Overview\n\n\nJoin us for a unique networking event with a delegation of leading German researchers\, entrepreneurs\, and government-backed projects visiting Birmingham as part of the Forum Digital Technologies (FDT) Roadshow. \nThis is a valuable opportunity to explore potential collaborations across GreenTech\, sustainability\, digital twins\, and the circular economy with German innovators seeking UK partners. \nWho Should Attend? \nThis event is ideal for: \n\nAcademics and researchers in sustainability\, AI\, digital engineering\, and manufacturing\nIndustry collaborators and technology providers\nSpinouts\, scale-ups\, and SMEs in digital circular economy solutions\nExperts in data standards\, legal frameworks\, and interoperability\n\nEvent Highlights \n\nWelcome and project pitches from the German delegation\nOpen networking and facilitated matchmaking\nLearn about cutting-edge research in:\nGreen Digital Twins\nDigital Product Passports\nCircular Economy strategies\nAI-powered textile sorting and building renovation planning\n\nAbout the Delegation \nThe Forum of Digital Technologies is commissioned by the German Federal Ministry for Economic Affairs and Energy\, showcasing six major projects in digital and sustainable innovation\, including: \n\nBeverGreen – Green digital twins for the brewing industry\nCliCE-DiPP – Digital CO₂ passports for manufacturing\nDiCES – Circular economy for white goods\nNaiS – AI-driven renovation planning with digital twins\nfashionsort.ai – AI-powered sorting for the textile industry\nPASSAT – Data ecosystems for sustainable product passports\n\nDelegates Are Seeking Collaboration With: \n\nResearchers and developers in semantic tech\, AI\, BIM\, LCA\, ERP/MES\, and digital twins\nIndustry partners for tech pilots and real-world applications\nCircular economy players in fashion\, manufacturing\, and construction\nExperts in standards\, regulations\, and digital infrastructure\n\n\nClick the link for further details about the International Roadshow of Forum Digital Technologies 2025 – GreenTech UK
URL:https://www.era.ac.uk/event/fdt-roadshow-engage-with-german-greentech-circular-economy-innovators/
LOCATION:University of Birmingham\, Birmingham University Campus\, Birmingham\, B15 2TT\, United Kingdom
CATEGORIES:Networking
ATTACH;FMTTYPE=image/jpeg:https://www.era.ac.uk/wp-content/uploads/2025/07/German-GreenTech-002.jpeg
ORGANIZER;CN="ERA":MAILTO:enquiries.ac.uk
END:VEVENT
END:VCALENDAR