BEGIN:VCALENDAR
VERSION:2.0
PRODID:-//ERA Energy Research Accelerator - ECPv6.15.20//NONSGML v1.0//EN
CALSCALE:GREGORIAN
METHOD:PUBLISH
X-WR-CALNAME:ERA Energy Research Accelerator
X-ORIGINAL-URL:https://www.era.ac.uk
X-WR-CALDESC:Events for ERA Energy Research Accelerator
REFRESH-INTERVAL;VALUE=DURATION:PT1H
X-Robots-Tag:noindex
X-PUBLISHED-TTL:PT1H
BEGIN:VTIMEZONE
TZID:Europe/London
BEGIN:DAYLIGHT
TZOFFSETFROM:+0000
TZOFFSETTO:+0100
TZNAME:BST
DTSTART:20230326T010000
END:DAYLIGHT
BEGIN:STANDARD
TZOFFSETFROM:+0100
TZOFFSETTO:+0000
TZNAME:GMT
DTSTART:20231029T010000
END:STANDARD
BEGIN:DAYLIGHT
TZOFFSETFROM:+0000
TZOFFSETTO:+0100
TZNAME:BST
DTSTART:20240331T010000
END:DAYLIGHT
BEGIN:STANDARD
TZOFFSETFROM:+0100
TZOFFSETTO:+0000
TZNAME:GMT
DTSTART:20241027T010000
END:STANDARD
BEGIN:DAYLIGHT
TZOFFSETFROM:+0000
TZOFFSETTO:+0100
TZNAME:BST
DTSTART:20250330T010000
END:DAYLIGHT
BEGIN:STANDARD
TZOFFSETFROM:+0100
TZOFFSETTO:+0000
TZNAME:GMT
DTSTART:20251026T010000
END:STANDARD
END:VTIMEZONE
BEGIN:VEVENT
DTSTART;TZID=Europe/London:20240118T100000
DTEND;TZID=Europe/London:20240118T120000
DTSTAMP:20260420T184046
CREATED:20230913T160308Z
LAST-MODIFIED:20231027T134736Z
UID:4325-1705572000-1705579200@www.era.ac.uk
SUMMARY:ERA Partner Roadshow at University of Warwick (exclusive event)
DESCRIPTION:This event is only for staff / students at University of Warwick.  Please use your university email address to register. \n  \nAt this roadshow you will have the chance to meet with ERA staff to find out about the work that is being done in energy research and innovation and how you can get involved in the future. \nCome along to this session to find out how ERA can help you with: \n– Cross-university research collaborations \n– Disseminating your research \n– Funding applications \n– Building international links \n– Accessing world-leading facilities \n– Training and development opportunitie \nPlaces are limited so please book today! \nPlease note that this is an internal event and to attend you must have an institute-specific email address.
URL:https://www.era.ac.uk/event/era-roadshow-at-university-of-warwick-exclusive-event/
LOCATION:University of Warwick\, Scarman Building\, Scarman Road\, CV4 7AL\, United Kingdom
ORGANIZER;CN="ERA":MAILTO:enquiries.ac.uk
END:VEVENT
END:VCALENDAR