BEGIN:VCALENDAR
VERSION:2.0
PRODID:-//ERA Energy Research Accelerator - ECPv6.15.20//NONSGML v1.0//EN
CALSCALE:GREGORIAN
METHOD:PUBLISH
X-WR-CALNAME:ERA Energy Research Accelerator
X-ORIGINAL-URL:https://www.era.ac.uk
X-WR-CALDESC:Events for ERA Energy Research Accelerator
REFRESH-INTERVAL;VALUE=DURATION:PT1H
X-Robots-Tag:noindex
X-PUBLISHED-TTL:PT1H
BEGIN:VTIMEZONE
TZID:Europe/London
BEGIN:DAYLIGHT
TZOFFSETFROM:+0000
TZOFFSETTO:+0100
TZNAME:BST
DTSTART:20220327T010000
END:DAYLIGHT
BEGIN:STANDARD
TZOFFSETFROM:+0100
TZOFFSETTO:+0000
TZNAME:GMT
DTSTART:20221030T010000
END:STANDARD
BEGIN:DAYLIGHT
TZOFFSETFROM:+0000
TZOFFSETTO:+0100
TZNAME:BST
DTSTART:20230326T010000
END:DAYLIGHT
BEGIN:STANDARD
TZOFFSETFROM:+0100
TZOFFSETTO:+0000
TZNAME:GMT
DTSTART:20231029T010000
END:STANDARD
BEGIN:DAYLIGHT
TZOFFSETFROM:+0000
TZOFFSETTO:+0100
TZNAME:BST
DTSTART:20240331T010000
END:DAYLIGHT
BEGIN:STANDARD
TZOFFSETFROM:+0100
TZOFFSETTO:+0000
TZNAME:GMT
DTSTART:20241027T010000
END:STANDARD
END:VTIMEZONE
BEGIN:VEVENT
DTSTART;TZID=Europe/London:20231025T130000
DTEND;TZID=Europe/London:20231025T140000
DTSTAMP:20260421T030405
CREATED:20231006T094024Z
LAST-MODIFIED:20231006T100016Z
UID:4422-1698238800-1698242400@www.era.ac.uk
SUMMARY:ERA Community Fund Info Webinar: Wed 25 Oct 2023\, 13:00-14:00
DESCRIPTION:During this info webinar we will tell you about the ERA Community Fund which provides up to £2\,500 to design\, develop\, and deliver energy and/or net-zero-centric events\, and hear from previous recipients of this award about why you should apply. \nMore info on the ERA Community Fund can be found at https://www.era.ac.uk/skills/funding-opportunities/
URL:https://www.era.ac.uk/event/era-community-fund-info-webinar/
LOCATION:Virtual event
CATEGORIES:Skills
ATTACH;FMTTYPE=image/jpeg:https://www.era.ac.uk/wp-content/uploads/2023/10/decarbonisation-summer-school-min.xbe33b9cf.jpg
ORGANIZER;CN="ERA":MAILTO:enquiries.ac.uk
END:VEVENT
END:VCALENDAR